BEGIN:VCALENDAR
VERSION:2.0
PRODID:-//National Cochlear Implant Users Association - ECPv6.15.13.1//NONSGML v1.0//EN
CALSCALE:GREGORIAN
METHOD:PUBLISH
X-ORIGINAL-URL:https://www.nciua.org.uk
X-WR-CALDESC:Events for National Cochlear Implant Users Association
REFRESH-INTERVAL;VALUE=DURATION:PT1H
X-Robots-Tag:noindex
X-PUBLISHED-TTL:PT1H
BEGIN:VTIMEZONE
TZID:Europe/London
BEGIN:DAYLIGHT
TZOFFSETFROM:+0000
TZOFFSETTO:+0100
TZNAME:BST
DTSTART:20230326T010000
END:DAYLIGHT
BEGIN:STANDARD
TZOFFSETFROM:+0100
TZOFFSETTO:+0000
TZNAME:GMT
DTSTART:20231029T010000
END:STANDARD
BEGIN:DAYLIGHT
TZOFFSETFROM:+0000
TZOFFSETTO:+0100
TZNAME:BST
DTSTART:20240331T010000
END:DAYLIGHT
BEGIN:STANDARD
TZOFFSETFROM:+0100
TZOFFSETTO:+0000
TZNAME:GMT
DTSTART:20241027T010000
END:STANDARD
BEGIN:DAYLIGHT
TZOFFSETFROM:+0000
TZOFFSETTO:+0100
TZNAME:BST
DTSTART:20250330T010000
END:DAYLIGHT
BEGIN:STANDARD
TZOFFSETFROM:+0100
TZOFFSETTO:+0000
TZNAME:GMT
DTSTART:20251026T010000
END:STANDARD
END:VTIMEZONE
BEGIN:VEVENT
DTSTART;VALUE=DATE:20240225
DTEND;VALUE=DATE:20240226
DTSTAMP:20260420T030632
CREATED:20240111T105449Z
LAST-MODIFIED:20240111T105449Z
UID:3769-1708819200-1708905599@www.nciua.org.uk
SUMMARY:International CI Day
DESCRIPTION:ICID is celebrated every 25 February\, the anniversary of the first cochlear implantation\,\nperformed by French doctors Charles Eyries and André Djourno in 1957.\nIt is estimated that there are now 700\,000 people around the world who have a cochlear implant.
URL:https://www.nciua.org.uk/event/international-ci-day-2/
END:VEVENT
END:VCALENDAR