BEGIN:VCALENDAR
VERSION:2.0
PRODID:-//National Cochlear Implant Users Association - ECPv6.15.13.1//NONSGML v1.0//EN
CALSCALE:GREGORIAN
METHOD:PUBLISH
X-ORIGINAL-URL:https://www.nciua.org.uk
X-WR-CALDESC:Events for National Cochlear Implant Users Association
REFRESH-INTERVAL;VALUE=DURATION:PT1H
X-Robots-Tag:noindex
X-PUBLISHED-TTL:PT1H
BEGIN:VTIMEZONE
TZID:Europe/London
BEGIN:DAYLIGHT
TZOFFSETFROM:+0000
TZOFFSETTO:+0100
TZNAME:BST
DTSTART:20220327T010000
END:DAYLIGHT
BEGIN:STANDARD
TZOFFSETFROM:+0100
TZOFFSETTO:+0000
TZNAME:GMT
DTSTART:20221030T010000
END:STANDARD
BEGIN:DAYLIGHT
TZOFFSETFROM:+0000
TZOFFSETTO:+0100
TZNAME:BST
DTSTART:20230326T010000
END:DAYLIGHT
BEGIN:STANDARD
TZOFFSETFROM:+0100
TZOFFSETTO:+0000
TZNAME:GMT
DTSTART:20231029T010000
END:STANDARD
BEGIN:DAYLIGHT
TZOFFSETFROM:+0000
TZOFFSETTO:+0100
TZNAME:BST
DTSTART:20240331T010000
END:DAYLIGHT
BEGIN:STANDARD
TZOFFSETFROM:+0100
TZOFFSETTO:+0000
TZNAME:GMT
DTSTART:20241027T010000
END:STANDARD
END:VTIMEZONE
BEGIN:VEVENT
DTSTART;TZID=Europe/London:20230605T080000
DTEND;TZID=Europe/London:20230606T170000
DTSTAMP:20260420T134502
CREATED:20230215T070338Z
LAST-MODIFIED:20230215T070845Z
UID:3606-1685952000-1686070800@www.nciua.org.uk
SUMMARY:BSA Scientific Meeting June 2023
DESCRIPTION:The BSA Scientific Meeting\, Showcasing the best of BSA takes place in June 2023.\nAn event by the British Society of Audiology\, it is a leading UK scientific forum to bring together clinicians and researchers who have an interest in hearing\, tinnitus and balance. \nTaking place at the BCEC\, in Birmingham on the 5th and 6th of June 2023\, the event will be of particular interest to\nAudiologists\, Researchers\, Clinical Scientists\, Teachers of the deaf\, Hearing Therapists\, Academia / Lecturers and Audiology Students. \nThis event promises to offer delegates the latest updates in the field of audiology as well as a comprehensive exhibition with new emerging products to market and the latest research. \nThe BSA are also happy to be offering free membership for one year\, in line with non-members of BSA signing up to this event.\nFind out more and view the full programme.
URL:https://www.nciua.org.uk/event/bsa-scientific-meeting-june-2023/
LOCATION:Birmingham\, United Kingdom
END:VEVENT
BEGIN:VEVENT
DTSTART;VALUE=DATE:20230617
DTEND;VALUE=DATE:20230618
DTSTAMP:20260420T134502
CREATED:20220827T105809Z
LAST-MODIFIED:20230523T140943Z
UID:3459-1686960000-1687046399@www.nciua.org.uk
SUMMARY:NCIUA 2023 Summer Meeting
DESCRIPTION:The National Cochlear Implant Users Association (NCIUA) will be holding its next Summer Meeting & AGM \non Saturday 17 June 2023 at the  NCVO\, Regents Wharf\, 8 All Saints Street\, London N1 9RL \nApplication to attend may be made by completing the Booking Form \n.Directions \n10 minutes walk King’s Cross and St Pancras Stations.\nNearest stop for buses 17\, 91\, 259: Killick Street/Caledonian Road\, stop K going north\, S going south. \nFor further information please contact Ray Glover via email secretary@nciua.org.uk
URL:https://www.nciua.org.uk/event/nciua-2023-summer-meeting/
LOCATION:NCVO  National Council for Voluntary Organisations\, Regents Wharf\, 8 All Saints Street\, London\, N1 9RL
END:VEVENT
END:VCALENDAR