BEGIN:VCALENDAR
VERSION:2.0
PRODID:-//National Cochlear Implant Users Association - ECPv6.15.13.1//NONSGML v1.0//EN
CALSCALE:GREGORIAN
METHOD:PUBLISH
X-ORIGINAL-URL:https://www.nciua.org.uk
X-WR-CALDESC:Events for National Cochlear Implant Users Association
REFRESH-INTERVAL;VALUE=DURATION:PT1H
X-Robots-Tag:noindex
X-PUBLISHED-TTL:PT1H
BEGIN:VTIMEZONE
TZID:Europe/London
BEGIN:DAYLIGHT
TZOFFSETFROM:+0000
TZOFFSETTO:+0100
TZNAME:BST
DTSTART:20210328T010000
END:DAYLIGHT
BEGIN:STANDARD
TZOFFSETFROM:+0100
TZOFFSETTO:+0000
TZNAME:GMT
DTSTART:20211031T010000
END:STANDARD
BEGIN:DAYLIGHT
TZOFFSETFROM:+0000
TZOFFSETTO:+0100
TZNAME:BST
DTSTART:20220327T010000
END:DAYLIGHT
BEGIN:STANDARD
TZOFFSETFROM:+0100
TZOFFSETTO:+0000
TZNAME:GMT
DTSTART:20221030T010000
END:STANDARD
BEGIN:DAYLIGHT
TZOFFSETFROM:+0000
TZOFFSETTO:+0100
TZNAME:BST
DTSTART:20230326T010000
END:DAYLIGHT
BEGIN:STANDARD
TZOFFSETFROM:+0100
TZOFFSETTO:+0000
TZNAME:GMT
DTSTART:20231029T010000
END:STANDARD
END:VTIMEZONE
BEGIN:VEVENT
DTSTART;TZID=Europe/London:20221112T104500
DTEND;TZID=Europe/London:20221112T153000
DTSTAMP:20260420T221824
CREATED:20220908T142246Z
LAST-MODIFIED:20221020T052849Z
UID:3470-1668249900-1668267000@www.nciua.org.uk
SUMMARY:NCIUA Technology Day Saturday 12 November
DESCRIPTION:The NCIUA is holding it’s regional meeting in Cambridge on Saturday 12  November 2022. \nIt is being held in conjunction with the Cambridge Cochlear Implant Social Support Group (CCISSG). \nIt will be a Technology Day at which CI manufacturer representatives will make presentations about their range of CI accessories that can help with listening experiences. \nThis will cover WiFi connectivity\, TV units\, remote microphones\, and smartphones. \nAfter a buffet lunch there will be workshops at which people can discuss these topics on a one to one basis with the representatives and raise any personal issues they may have. \nThe programme and required registration form  can be seen here. \nCar parking is free. \nFull details of directions for road\, bus\, and rail can be seen here. \n 
URL:https://www.nciua.org.uk/event/nciua-technology-day-saturday-12-november-2022/
LOCATION:MRC\, 15 Chaucer Road\, Cambridge\, CB2 7EF
END:VEVENT
END:VCALENDAR