BEGIN:VCALENDAR
VERSION:2.0
PRODID:-//National Cochlear Implant Users Association - ECPv6.15.13.1//NONSGML v1.0//EN
CALSCALE:GREGORIAN
METHOD:PUBLISH
X-WR-CALNAME:National Cochlear Implant Users Association
X-ORIGINAL-URL:https://www.nciua.org.uk
X-WR-CALDESC:Events for National Cochlear Implant Users Association
REFRESH-INTERVAL;VALUE=DURATION:PT1H
X-Robots-Tag:noindex
X-PUBLISHED-TTL:PT1H
BEGIN:VTIMEZONE
TZID:Europe/London
BEGIN:DAYLIGHT
TZOFFSETFROM:+0000
TZOFFSETTO:+0100
TZNAME:BST
DTSTART:20200329T010000
END:DAYLIGHT
BEGIN:STANDARD
TZOFFSETFROM:+0100
TZOFFSETTO:+0000
TZNAME:GMT
DTSTART:20201025T010000
END:STANDARD
BEGIN:DAYLIGHT
TZOFFSETFROM:+0000
TZOFFSETTO:+0100
TZNAME:BST
DTSTART:20210328T010000
END:DAYLIGHT
BEGIN:STANDARD
TZOFFSETFROM:+0100
TZOFFSETTO:+0000
TZNAME:GMT
DTSTART:20211031T010000
END:STANDARD
BEGIN:DAYLIGHT
TZOFFSETFROM:+0000
TZOFFSETTO:+0100
TZNAME:BST
DTSTART:20220327T010000
END:DAYLIGHT
BEGIN:STANDARD
TZOFFSETFROM:+0100
TZOFFSETTO:+0000
TZNAME:GMT
DTSTART:20221030T010000
END:STANDARD
END:VTIMEZONE
BEGIN:VEVENT
DTSTART;VALUE=DATE:20210511
DTEND;VALUE=DATE:20210513
DTSTAMP:20260421T214917
CREATED:20210112T123206Z
LAST-MODIFIED:20210112T123206Z
UID:2952-1620691200-1620863999@www.nciua.org.uk
SUMMARY:BCIG Virtual  Meeting 2021
DESCRIPTION:Fit for the Future\n\n\nAmidst the ongoing challenges of a global pandemic\, we are delighted to invite you to the very first BCIG Virtual Conference – ‘Fit for the Future’; an opportunity to step away from the present and take some time out to look ahead to the promising future that awaits us.\nWe look forward to sharing with you the many interactive possibilities of our exciting virtual platform and providing you with the mixture of high-quality education\, networking and fun that you have come to expect. The meeting will be held as a live event on 11th – 12th May 2021.\nWe invite you to submit abstracts by 14th February 2021; those relating to our conference theme will be viewed more favourably. Please visit: https://bcig2021.exordo.com\nWe are offering captioning throughout the meeting.\nPlease advise if you have any further accessibility requirements by contacting the events team by email at academia.bbmuk@bbraun.com\nFor further details please visit   BCIG 2021 Booking Form pdf\nFor further details on how to become a BCIG member\, please visit: www.bcig.org.uk/membership-join
URL:https://www.nciua.org.uk/event/bcig-virtual-meeting-2021/
END:VEVENT
END:VCALENDAR