BEGIN:VCALENDAR
VERSION:2.0
PRODID:-//National Cochlear Implant Users Association - ECPv6.15.13.1//NONSGML v1.0//EN
CALSCALE:GREGORIAN
METHOD:PUBLISH
X-ORIGINAL-URL:https://www.nciua.org.uk
X-WR-CALDESC:Events for National Cochlear Implant Users Association
REFRESH-INTERVAL;VALUE=DURATION:PT1H
X-Robots-Tag:noindex
X-PUBLISHED-TTL:PT1H
BEGIN:VTIMEZONE
TZID:Europe/London
BEGIN:DAYLIGHT
TZOFFSETFROM:+0000
TZOFFSETTO:+0100
TZNAME:BST
DTSTART:20190331T010000
END:DAYLIGHT
BEGIN:STANDARD
TZOFFSETFROM:+0100
TZOFFSETTO:+0000
TZNAME:GMT
DTSTART:20191027T010000
END:STANDARD
BEGIN:DAYLIGHT
TZOFFSETFROM:+0000
TZOFFSETTO:+0100
TZNAME:BST
DTSTART:20200329T010000
END:DAYLIGHT
BEGIN:STANDARD
TZOFFSETFROM:+0100
TZOFFSETTO:+0000
TZNAME:GMT
DTSTART:20201025T010000
END:STANDARD
BEGIN:DAYLIGHT
TZOFFSETFROM:+0000
TZOFFSETTO:+0100
TZNAME:BST
DTSTART:20210328T010000
END:DAYLIGHT
BEGIN:STANDARD
TZOFFSETFROM:+0100
TZOFFSETTO:+0000
TZNAME:GMT
DTSTART:20211031T010000
END:STANDARD
END:VTIMEZONE
BEGIN:VEVENT
DTSTART;VALUE=DATE:20200310
DTEND;VALUE=DATE:20200312
DTSTAMP:20260422T175936
CREATED:20190406T144814Z
LAST-MODIFIED:20190406T145311Z
UID:2196-1583798400-1583971199@www.nciua.org.uk
SUMMARY:BCIG Annual Conference & AGM
DESCRIPTION:The next BCIG ( British Cochlear Implant Group ) Conference will be held in Nottingham on 10/11 March 2020. \nFull details will be published in due course
URL:https://www.nciua.org.uk/event/bcig-annual-conference-agm-2/
LOCATION:Nottingham\, United Kingdom
END:VEVENT
END:VCALENDAR