BEGIN:VCALENDAR
VERSION:2.0
PRODID:-//National Cochlear Implant Users Association - ECPv6.15.13.1//NONSGML v1.0//EN
CALSCALE:GREGORIAN
METHOD:PUBLISH
X-WR-CALNAME:National Cochlear Implant Users Association
X-ORIGINAL-URL:https://www.nciua.org.uk
X-WR-CALDESC:Events for National Cochlear Implant Users Association
REFRESH-INTERVAL;VALUE=DURATION:PT1H
X-Robots-Tag:noindex
X-PUBLISHED-TTL:PT1H
BEGIN:VTIMEZONE
TZID:Europe/London
BEGIN:DAYLIGHT
TZOFFSETFROM:+0000
TZOFFSETTO:+0100
TZNAME:BST
DTSTART:20180325T010000
END:DAYLIGHT
BEGIN:STANDARD
TZOFFSETFROM:+0100
TZOFFSETTO:+0000
TZNAME:GMT
DTSTART:20181028T010000
END:STANDARD
BEGIN:DAYLIGHT
TZOFFSETFROM:+0000
TZOFFSETTO:+0100
TZNAME:BST
DTSTART:20190331T010000
END:DAYLIGHT
BEGIN:STANDARD
TZOFFSETFROM:+0100
TZOFFSETTO:+0000
TZNAME:GMT
DTSTART:20191027T010000
END:STANDARD
BEGIN:DAYLIGHT
TZOFFSETFROM:+0000
TZOFFSETTO:+0100
TZNAME:BST
DTSTART:20200329T010000
END:DAYLIGHT
BEGIN:STANDARD
TZOFFSETFROM:+0100
TZOFFSETTO:+0000
TZNAME:GMT
DTSTART:20201025T010000
END:STANDARD
END:VTIMEZONE
BEGIN:VEVENT
DTSTART;VALUE=DATE:20190605
DTEND;VALUE=DATE:20190606
DTSTAMP:20260423T042525
CREATED:20190224T101320Z
LAST-MODIFIED:20190224T101341Z
UID:2172-1559692800-1559779199@www.nciua.org.uk
SUMMARY:BSA Annual Conference
DESCRIPTION:Translating Research into Practice \nThe BSA Annual Conference continues to be the leading UK scientific forum to bring together clinicians and researchers who have an interest in hearing\, tinnitus and balance.\nThis event promises to offer delegates the latest in audiology research\, education and expertise\, with inspiring speakers and informative sessions.\nThis event is FREE for BSA members and only £45 for non-members.\nProgramme Highlights\nThe theme of this year’s conference will focus on translational research including complex hearing loss\, dementia\, hearing aids and hearing implants. Delegates will get to explore how current research may fit into clinical practice within interactive sessions with today’s researchers in the field of audiology. As well as traditional conference lectures we will be hosting grand round sessions. \nWe have all heard about ward rounds – where medics review each patient under their care to plan the care required. Grand rounds are a methodology of medical education based on this idea of reviewing an individual’s case; exploring the assessment and treatment options in an unusual or challenging case. During this grand round session we will explore how evolving research might be translated into clinical practice with a panel of experts.
URL:https://www.nciua.org.uk/event/bsa-annula-conference/
LOCATION:Molineux Stadium\, Woverhamton
END:VEVENT
BEGIN:VEVENT
DTSTART;VALUE=DATE:20190608
DTEND;VALUE=DATE:20190609
DTSTAMP:20260423T042525
CREATED:20190109T225109Z
LAST-MODIFIED:20190513T103654Z
UID:2131-1559952000-1560038399@www.nciua.org.uk
SUMMARY:NCIUA Summer Meeting & AGM
DESCRIPTION:The 2019 NCIUA Summer Meeting and AGM will be held on Saturday 8 June at Birbeck College London. \nIn addition to the postcode a map of the loction can be seen here\nThe programme and application form to attend can be seen here.
URL:https://www.nciua.org.uk/event/nciua-summer-meeting-agm-2/
LOCATION:Birbeck College\, Room B04\, Birkbeck\, London University\, Mallet Street\, London\, WC1E 7HX\, United Kingdom
END:VEVENT
BEGIN:VEVENT
DTSTART;TZID=Europe/London:20190622T100000
DTEND;TZID=Europe/London:20190622T170000
DTSTAMP:20260423T042525
CREATED:20190529T152624Z
LAST-MODIFIED:20190529T153027Z
UID:2347-1561197600-1561222800@www.nciua.org.uk
SUMMARY:NADP Conference & AGM
DESCRIPTION:The annual Conference & AGM of the National Association of Deafened People (NADP) \nwill be held on Saturday 22 June 2019 at the friends Meeting Place\, 173 Euston Road\, London\, NW1 2BJ
URL:https://www.nciua.org.uk/event/nadp-conference-agm/
LOCATION:Friends Meeting Place\, 173 Euston Road\, London\, NW1 2BJ\, United Kingdom
END:VEVENT
END:VCALENDAR